BEGIN:VCALENDAR
VERSION:2.0
PRODID:-//ACG//Events//EN
CALSCALE:GREGORIAN
METHOD:PUBLISH
BEGIN:VTIMEZONE
TZID:America/Chicago
BEGIN:STANDARD
DTSTART:19701025T070000
TZOFFSETTO:-0600
TZOFFSETFROM:-0500
RRULE:FREQ=YEARLY;BYMONTH=11;BYDAY=1SU
END:STANDARD
BEGIN:DAYLIGHT
DTSTART:19700426T080000
TZOFFSETTO:-0500
TZOFFSETFROM:-0600
RRULE:FREQ=YEARLY;BYMONTH=3;BYDAY=2SU
END:DAYLIGHT
END:VTIMEZONE
BEGIN:VEVENT
UID:97e1935f-db44-4de1-b7e8-5094920e4bd1
DTSTART;TZID=America/Chicago:20220915T173000
DTEND;TZID=America/Chicago:20220915T193000
STATUS:CONFIRMED
SUMMARY:ACG Tennessee | 2022 September Meeting\, Bourbon Tasting
DESCRIPTION:
LOCATION:Richland Country Club | One Club Drive | Nashville\, TN  3721
 5\n1 Club Drive\nNashville\\, TN 37215
URL:https://www.acg.org/tennessee/events/acg-tennessee-2022-september-
 meeting-bourbon-tasting
DTSTAMP:20260419T193207Z
END:VEVENT
END:VCALENDAR
