BEGIN:VCALENDAR
VERSION:2.0
PRODID:-//ACG//Events//EN
CALSCALE:GREGORIAN
METHOD:PUBLISH
BEGIN:VTIMEZONE
TZID:US/Eastern
BEGIN:STANDARD
DTSTART:19701025T060000
TZOFFSETTO:-0500
TZOFFSETFROM:-0400
RRULE:FREQ=YEARLY;BYMONTH=11;BYDAY=1SU
END:STANDARD
BEGIN:DAYLIGHT
DTSTART:19700426T070000
TZOFFSETTO:-0400
TZOFFSETFROM:-0500
RRULE:FREQ=YEARLY;BYMONTH=3;BYDAY=2SU
END:DAYLIGHT
END:VTIMEZONE
BEGIN:VEVENT
UID:3f8cdfe9-f85a-41e2-9e1f-ea450a38c5b9
DTSTART;TZID=US/Eastern:20220921T200000
DTEND;TZID=US/Eastern:20220921T203000
STATUS:CONFIRMED
SUMMARY:DealMaker Dinner Series
DESCRIPTION:
LOCATION:The New York Athletic Club\n
URL:https://www.acg.org/nyc/events/dealmaker-dinner-series
DTSTAMP:20260422T192002Z
END:VEVENT
END:VCALENDAR
