BEGIN:VCALENDAR
VERSION:2.0
PRODID:-//ACG//Events//EN
CALSCALE:GREGORIAN
METHOD:PUBLISH
BEGIN:VTIMEZONE
TZID:US/Eastern
BEGIN:STANDARD
DTSTART:19701025T060000
TZOFFSETTO:-0500
TZOFFSETFROM:-0400
RRULE:FREQ=YEARLY;BYMONTH=11;BYDAY=1SU
END:STANDARD
BEGIN:DAYLIGHT
DTSTART:19700426T070000
TZOFFSETTO:-0400
TZOFFSETFROM:-0500
RRULE:FREQ=YEARLY;BYMONTH=3;BYDAY=2SU
END:DAYLIGHT
END:VTIMEZONE
BEGIN:VEVENT
UID:00414b01-a15e-4852-bbf4-4536cf981845
DTSTART;TZID=US/Eastern:20221010T200000
DTEND;TZID=US/Eastern:20221010T203000
STATUS:CONFIRMED
SUMMARY:PE Roundtable Dinner Series
DESCRIPTION:
LOCATION:The Penn Club of New York\n
URL:https://www.acg.org/nyc/events/pe-roundtable-dinner-series-3
DTSTAMP:20260423T110734Z
END:VEVENT
END:VCALENDAR
