BEGIN:VCALENDAR
VERSION:2.0
PRODID:-//ACG//Events//EN
CALSCALE:GREGORIAN
METHOD:PUBLISH
BEGIN:VTIMEZONE
TZID:America/New_York
BEGIN:STANDARD
DTSTART:19701025T060000
TZOFFSETTO:-0500
TZOFFSETFROM:-0400
RRULE:FREQ=YEARLY;BYMONTH=11;BYDAY=1SU
END:STANDARD
BEGIN:DAYLIGHT
DTSTART:19700426T070000
TZOFFSETTO:-0400
TZOFFSETFROM:-0500
RRULE:FREQ=YEARLY;BYMONTH=3;BYDAY=2SU
END:DAYLIGHT
END:VTIMEZONE
BEGIN:VEVENT
UID:2732288c-96b9-4aed-92a1-78d7a7585337
DTSTART;TZID=America/New_York:20221011T130500
DTEND;TZID=America/New_York:20221011T170000
STATUS:CONFIRMED
SUMMARY:ACG Atlanta: Playoff Baseball - Braves vs Phillies - NLDS GAME 1
DESCRIPTION:
LOCATION:Truist Park - XFININITY Rooftop Terrace\n755 Battery Avenue S
 outheast\nAtlanta\\, GA 30339
URL:https://www.acg.org/atlanta/events/acg-atlanta-playoff-baseball-br
 aves-vs-phillies-nlds-game-1
DTSTAMP:20260422T004807Z
END:VEVENT
END:VCALENDAR
