BEGIN:VCALENDAR
VERSION:2.0
PRODID:-//ACG//Events//EN
CALSCALE:GREGORIAN
METHOD:PUBLISH
BEGIN:VTIMEZONE
TZID:America/New_York
BEGIN:STANDARD
DTSTART:19701025T060000
TZOFFSETTO:-0500
TZOFFSETFROM:-0400
RRULE:FREQ=YEARLY;BYMONTH=11;BYDAY=1SU
END:STANDARD
BEGIN:DAYLIGHT
DTSTART:19700426T070000
TZOFFSETTO:-0400
TZOFFSETFROM:-0500
RRULE:FREQ=YEARLY;BYMONTH=3;BYDAY=2SU
END:DAYLIGHT
END:VTIMEZONE
BEGIN:VEVENT
UID:25f7031e-c125-4bd9-afa0-7ce91c7f6989
DTSTART;TZID=America/New_York:20221019T080000
DTEND;TZID=America/New_York:20221019T100000
STATUS:CONFIRMED
SUMMARY:The New Recession Playbook - Driving Current and Future Enterp
 rise Value in any Market Environment
DESCRIPTION:
LOCATION:Bloomfield Hills Country Club\n350 West Long Lake Road\nBloom
 field Hills\\, MI 48304
URL:https://www.acg.org/detroit/events/new-recession-playbook-driving-
 current-and-future-enterprise-value-any-market
DTSTAMP:20260424T174712Z
END:VEVENT
END:VCALENDAR
