BEGIN:VCALENDAR
VERSION:2.0
PRODID:-//ACG//Events//EN
CALSCALE:GREGORIAN
METHOD:PUBLISH
BEGIN:VTIMEZONE
TZID:US/Eastern
BEGIN:STANDARD
DTSTART:19701025T060000
TZOFFSETTO:-0500
TZOFFSETFROM:-0400
RRULE:FREQ=YEARLY;BYMONTH=11;BYDAY=1SU
END:STANDARD
BEGIN:DAYLIGHT
DTSTART:19700426T070000
TZOFFSETTO:-0400
TZOFFSETFROM:-0500
RRULE:FREQ=YEARLY;BYMONTH=3;BYDAY=2SU
END:DAYLIGHT
END:VTIMEZONE
BEGIN:VEVENT
UID:29414779-EBA8-4069-AD1C-83825DE44B39
DTSTART;TZID=US/Eastern:20230322T140000
DTEND;TZID=US/Eastern:20230322T210000
STATUS:CONFIRMED
SUMMARY:ACG NY 15th Annual Healthcare Conference
DESCRIPTION:
LOCATION:Metropolitan Club of New York\n1 East 60th Street\nNew York\\
 , NY 10022
URL:https://www.acg.org/nyc/events/acg-ny-15th-annual-healthcare-conference
DTSTAMP:20260424T194348Z
END:VEVENT
END:VCALENDAR
