BEGIN:VCALENDAR
VERSION:2.0
PRODID:-//ACG//Events//EN
CALSCALE:GREGORIAN
METHOD:PUBLISH
BEGIN:VTIMEZONE
TZID:US/Eastern
BEGIN:STANDARD
DTSTART:19701025T060000
TZOFFSETTO:-0500
TZOFFSETFROM:-0400
RRULE:FREQ=YEARLY;BYMONTH=11;BYDAY=1SU
END:STANDARD
BEGIN:DAYLIGHT
DTSTART:19700426T070000
TZOFFSETTO:-0400
TZOFFSETFROM:-0500
RRULE:FREQ=YEARLY;BYMONTH=3;BYDAY=2SU
END:DAYLIGHT
END:VTIMEZONE
BEGIN:VEVENT
UID:F877F171-78A7-4FFF-924B-CE768D190DB3
DTSTART;TZID=US/Eastern:20230119T180000
DTEND;TZID=US/Eastern:20230119T210000
STATUS:CONFIRMED
SUMMARY:ACG NY PE Roundtable Dinner Series
DESCRIPTION:
LOCATION:The Penn Club of New York\n30 West 44th Street\nNew York\\, N
 Y 10036
URL:https://www.acg.org/nyc/events/acg-ny-pe-roundtable-dinner-series
DTSTAMP:20260423T105827Z
END:VEVENT
END:VCALENDAR
