BEGIN:VCALENDAR
VERSION:2.0
PRODID:-//ACG//Events//EN
CALSCALE:GREGORIAN
METHOD:PUBLISH
BEGIN:VTIMEZONE
TZID:US/Eastern
BEGIN:STANDARD
DTSTART:19701025T060000
TZOFFSETTO:-0500
TZOFFSETFROM:-0400
RRULE:FREQ=YEARLY;BYMONTH=11;BYDAY=1SU
END:STANDARD
BEGIN:DAYLIGHT
DTSTART:19700426T070000
TZOFFSETTO:-0400
TZOFFSETFROM:-0500
RRULE:FREQ=YEARLY;BYMONTH=3;BYDAY=2SU
END:DAYLIGHT
END:VTIMEZONE
BEGIN:VEVENT
UID:44CC13C5-CE2B-4AF7-B826-8566CA024FC4
DTSTART;TZID=US/Eastern:20230209T180000
DTEND;TZID=US/Eastern:20230209T210000
STATUS:CONFIRMED
SUMMARY:ACG NY DealMaker Dinner Series
DESCRIPTION:
LOCATION:The New York Athletic Club\n180 Central Park South\nNew York\
 \, NY 10019
URL:https://www.acg.org/nyc/events/acg-ny-dealmaker-dinner-series-0
DTSTAMP:20260422T225859Z
END:VEVENT
END:VCALENDAR
