BEGIN:VCALENDAR
VERSION:2.0
PRODID:-//ACG//Events//EN
CALSCALE:GREGORIAN
METHOD:PUBLISH
BEGIN:VTIMEZONE
TZID:US/Eastern
BEGIN:STANDARD
DTSTART:19701025T060000
TZOFFSETTO:-0500
TZOFFSETFROM:-0400
RRULE:FREQ=YEARLY;BYMONTH=11;BYDAY=1SU
END:STANDARD
BEGIN:DAYLIGHT
DTSTART:19700426T070000
TZOFFSETTO:-0400
TZOFFSETFROM:-0500
RRULE:FREQ=YEARLY;BYMONTH=3;BYDAY=2SU
END:DAYLIGHT
END:VTIMEZONE
BEGIN:VEVENT
UID:761947C0-4CB3-4406-874B-BE868E73005D
DTSTART;TZID=US/Eastern:20230404T183000
DTEND;TZID=US/Eastern:20230404T220000
STATUS:CONFIRMED
SUMMARY:ACG NY PE Roundtable Dinner Series - Special Event at Yankees 
 Stadium
DESCRIPTION:
LOCATION:Yankee Stadium\n1 East 161 Street
URL:https://www.acg.org/nyc/events/acg-ny-pe-roundtable-dinner-series-
 special-event-yankees-stadium
DTSTAMP:20260423T110105Z
END:VEVENT
END:VCALENDAR
