BEGIN:VCALENDAR
VERSION:2.0
PRODID:-//ACG//Events//EN
CALSCALE:GREGORIAN
METHOD:PUBLISH
BEGIN:VTIMEZONE
TZID:America/New_York
BEGIN:STANDARD
DTSTART:19701025T060000
TZOFFSETTO:-0500
TZOFFSETFROM:-0400
RRULE:FREQ=YEARLY;BYMONTH=11;BYDAY=1SU
END:STANDARD
BEGIN:DAYLIGHT
DTSTART:19700426T070000
TZOFFSETTO:-0400
TZOFFSETFROM:-0500
RRULE:FREQ=YEARLY;BYMONTH=3;BYDAY=2SU
END:DAYLIGHT
END:VTIMEZONE
BEGIN:VEVENT
UID:10914437-74e0-4192-8256-6d0186525c3d
DTSTART;TZID=America/New_York:20221115T173000
DTEND;TZID=America/New_York:20221115T200000
STATUS:CONFIRMED
SUMMARY:Securing your Future and Managing your Risk:  How Two Bay Area
  CEOs are Changing the Landscape of Cyber Security
DESCRIPTION:
LOCATION:Sarasota Yacht Club\n1100 John Ringling Boulevard\nSarasota\\
 , FL 34236
URL:https://www.acg.org/tampabay/events/securing-your-future-and-manag
 ing-your-risk-how-two-bay-area-ceos-are-changing
DTSTAMP:20260419T130603Z
END:VEVENT
END:VCALENDAR
