BEGIN:VCALENDAR
VERSION:2.0
PRODID:-//ACG//Events//EN
CALSCALE:GREGORIAN
METHOD:PUBLISH
BEGIN:VTIMEZONE
TZID:America/Chicago
BEGIN:STANDARD
DTSTART:19701025T070000
TZOFFSETTO:-0600
TZOFFSETFROM:-0500
RRULE:FREQ=YEARLY;BYMONTH=11;BYDAY=1SU
END:STANDARD
BEGIN:DAYLIGHT
DTSTART:19700426T080000
TZOFFSETTO:-0500
TZOFFSETFROM:-0600
RRULE:FREQ=YEARLY;BYMONTH=3;BYDAY=2SU
END:DAYLIGHT
END:VTIMEZONE
BEGIN:VEVENT
UID:eceb2872-16e5-4be8-9d11-73d65103ea6a
DTSTART;TZID=America/Chicago:20221103T113000
DTEND;TZID=America/Chicago:20221103T173000
STATUS:CONFIRMED
SUMMARY:ACG ASA's 10th Annual Private Equity Two-Step on 11/3/22 in S.A.
DESCRIPTION:
LOCATION:Estancia Del Norte Hotel\n McCullough Avenue\nSan Antonio\\, 
 TX 78216
URL:https://www.acg.org/asa/events/acg-asas-10th-annual-private-equity
 -two-step-11322-sa
DTSTAMP:20260420T185732Z
END:VEVENT
END:VCALENDAR
