BEGIN:VCALENDAR
VERSION:2.0
PRODID:-//ACG//Events//EN
CALSCALE:GREGORIAN
METHOD:PUBLISH
BEGIN:VTIMEZONE
TZID:US/Eastern
BEGIN:STANDARD
DTSTART:19701025T060000
TZOFFSETTO:-0500
TZOFFSETFROM:-0400
RRULE:FREQ=YEARLY;BYMONTH=11;BYDAY=1SU
END:STANDARD
BEGIN:DAYLIGHT
DTSTART:19700426T070000
TZOFFSETTO:-0400
TZOFFSETFROM:-0500
RRULE:FREQ=YEARLY;BYMONTH=3;BYDAY=2SU
END:DAYLIGHT
END:VTIMEZONE
BEGIN:VEVENT
UID:AB030CB1-F7FB-4BCF-AF60-0FDD310E8DFC
DTSTART;TZID=US/Eastern:20230117T110000
DTEND;TZID=US/Eastern:20230117T113000
STATUS:CONFIRMED
SUMMARY:ACG Next
DESCRIPTION:
LOCATION:Hyatt Regency Tysons Corner Center\n7901 Tysons One Place\nTy
 sons\\, VA 22102
URL:https://www.acg.org/national-capital/events/acg-next
DTSTAMP:20260424T202056Z
END:VEVENT
END:VCALENDAR
