BEGIN:VCALENDAR
VERSION:2.0
PRODID:-//ACG//Events//EN
CALSCALE:GREGORIAN
METHOD:PUBLISH
BEGIN:VTIMEZONE
TZID:US/Eastern
BEGIN:STANDARD
DTSTART:19701025T060000
TZOFFSETTO:-0500
TZOFFSETFROM:-0400
RRULE:FREQ=YEARLY;BYMONTH=11;BYDAY=1SU
END:STANDARD
BEGIN:DAYLIGHT
DTSTART:19700426T070000
TZOFFSETTO:-0400
TZOFFSETFROM:-0500
RRULE:FREQ=YEARLY;BYMONTH=3;BYDAY=2SU
END:DAYLIGHT
END:VTIMEZONE
BEGIN:VEVENT
UID:E6736E90-6F08-40C6-8C6D-98686170ED80
DTSTART;TZID=US/Eastern:20230501T103000
DTEND;TZID=US/Eastern:20230501T190000
STATUS:CONFIRMED
SUMMARY:ACG Pittsburgh 2023 Golf Outing
DESCRIPTION:
LOCATION:Fox Chapel Golf Club\n426 Fox Chapel Road\nPittsburgh\\, PA 15238
URL:https://www.acg.org/pittsburgh/events/acg-pittsburgh-2023-golf-outing
DTSTAMP:20260419T130654Z
END:VEVENT
END:VCALENDAR
