BEGIN:VCALENDAR
VERSION:2.0
PRODID:-//ACG//Events//EN
CALSCALE:GREGORIAN
METHOD:PUBLISH
BEGIN:VTIMEZONE
TZID:America/Chicago
BEGIN:STANDARD
DTSTART:19701025T070000
TZOFFSETTO:-0600
TZOFFSETFROM:-0500
RRULE:FREQ=YEARLY;BYMONTH=11;BYDAY=1SU
END:STANDARD
BEGIN:DAYLIGHT
DTSTART:19700426T080000
TZOFFSETTO:-0500
TZOFFSETFROM:-0600
RRULE:FREQ=YEARLY;BYMONTH=3;BYDAY=2SU
END:DAYLIGHT
END:VTIMEZONE
BEGIN:VEVENT
UID:61685
DTSTART;TZID=America/Chicago:20230306T110000
DTEND;TZID=America/Chicago:20230306T183000
STATUS:CONFIRMED
SUMMARY:2023 Midwest Middle Market Manufacturing Conference
DESCRIPTION:
LOCATION:Radisson Blu Aqua Hotel\,\nRadisson Blu Aqua Hotel\n221 N Col
 umbus Dr\, Chicago\, IL 60601\nChicago\\, IL 60601
URL:https://www.acg.org/chicago/events/2023-midwest-middle-market-manu
 facturing-conference
DTSTAMP:20260419T130516Z
END:VEVENT
END:VCALENDAR
