BEGIN:VCALENDAR
VERSION:2.0
PRODID:-//ACG//Events//EN
CALSCALE:GREGORIAN
METHOD:PUBLISH
BEGIN:VTIMEZONE
TZID:America/Los_Angeles
BEGIN:STANDARD
DTSTART:19701025T090000
TZOFFSETTO:-0800
TZOFFSETFROM:-0700
RRULE:FREQ=YEARLY;BYMONTH=11;BYDAY=1SU
END:STANDARD
BEGIN:DAYLIGHT
DTSTART:19700426T100000
TZOFFSETTO:-0700
TZOFFSETFROM:-0800
RRULE:FREQ=YEARLY;BYMONTH=3;BYDAY=2SU
END:DAYLIGHT
END:VTIMEZONE
BEGIN:VEVENT
UID:61691
DTSTART;TZID=America/Los_Angeles:20230209T170000
DTEND;TZID=America/Los_Angeles:20230209T210000
STATUS:CONFIRMED
SUMMARY:PE/IB Poker Tournament
DESCRIPTION:
LOCATION:Penthouse at Wingtip\nWingtip\n550 Montgomery St\, Unit 10\nS
 an Francisco\\, CA 94111
URL:https://www.acg.org/sanfrancisco/events/peib-poker-tournament
DTSTAMP:20260423T163131Z
END:VEVENT
END:VCALENDAR
