BEGIN:VCALENDAR
VERSION:2.0
PRODID:-//ACG//Events//EN
CALSCALE:GREGORIAN
METHOD:PUBLISH
BEGIN:VTIMEZONE
TZID:US/Pacific
BEGIN:STANDARD
DTSTART:19701025T090000
TZOFFSETTO:-0800
TZOFFSETFROM:-0700
RRULE:FREQ=YEARLY;BYMONTH=11;BYDAY=1SU
END:STANDARD
BEGIN:DAYLIGHT
DTSTART:19700426T100000
TZOFFSETTO:-0700
TZOFFSETFROM:-0800
RRULE:FREQ=YEARLY;BYMONTH=3;BYDAY=2SU
END:DAYLIGHT
END:VTIMEZONE
BEGIN:VEVENT
UID:2023-MIDDLE-MARKET-CONSUMER-CONFERENCE
DTSTART;TZID=US/Pacific:20230427T113033
DTEND;TZID=US/Pacific:20230427T190033
STATUS:CONFIRMED
SUMMARY:2023 Middle Market Consumer Conference
DESCRIPTION:
LOCATION:The Maybourne Beverly Hills\n225 North Canon Drive\nBeverly H
 ills\\, CA 90210
URL:https://www.acg.org/los-angeles/events/2023-middle-market-consumer
 -conference
DTSTAMP:20260421T054646Z
END:VEVENT
END:VCALENDAR
