BEGIN:VCALENDAR
VERSION:2.0
PRODID:-//ACG//Events//EN
CALSCALE:GREGORIAN
METHOD:PUBLISH
BEGIN:VTIMEZONE
TZID:America/New_York
BEGIN:STANDARD
DTSTART:19701025T060000
TZOFFSETTO:-0500
TZOFFSETFROM:-0400
RRULE:FREQ=YEARLY;BYMONTH=11;BYDAY=1SU
END:STANDARD
BEGIN:DAYLIGHT
DTSTART:19700426T070000
TZOFFSETTO:-0400
TZOFFSETFROM:-0500
RRULE:FREQ=YEARLY;BYMONTH=3;BYDAY=2SU
END:DAYLIGHT
END:VTIMEZONE
BEGIN:VEVENT
UID:2023-ACG-DETROIT-CONGRESS-CODIFIES-M-A-BROKER-EXEMPTION-CLARITY-BR
 INGS-NEW-OPPORTUNITIES
DTSTART;TZID=America/New_York:20230426T163053
DTEND;TZID=America/New_York:20230426T183053
STATUS:CONFIRMED
SUMMARY:2023 ACG Detroit | Congress Codifies M&A Broker Exemption: Cla
 rity Brings New Opportunities
DESCRIPTION:
LOCATION:Detroit Golf Club\n17911 Hamilton Road\nDetroit\\, MI 48203
URL:https://www.acg.org/detroit/events/2023-acg-detroit-congress-codif
 ies-ma-broker-exemption-clarity-brings-new
DTSTAMP:20260425T170728Z
END:VEVENT
END:VCALENDAR
