BEGIN:VCALENDAR
VERSION:2.0
PRODID:-//ACG//Events//EN
CALSCALE:GREGORIAN
METHOD:PUBLISH
BEGIN:VTIMEZONE
TZID:US/Pacific
BEGIN:STANDARD
DTSTART:19701025T090000
TZOFFSETTO:-0800
TZOFFSETFROM:-0700
RRULE:FREQ=YEARLY;BYMONTH=11;BYDAY=1SU
END:STANDARD
BEGIN:DAYLIGHT
DTSTART:19700426T100000
TZOFFSETTO:-0700
TZOFFSETFROM:-0800
RRULE:FREQ=YEARLY;BYMONTH=3;BYDAY=2SU
END:DAYLIGHT
END:VTIMEZONE
BEGIN:VEVENT
UID:2023-AEROSPACE-DEFENSE-MIDDLE-MARKET-LEADERSHIP-FORUM
DTSTART;TZID=US/Pacific:20230928T080013
DTEND;TZID=US/Pacific:20230928T183042
STATUS:CONFIRMED
SUMMARY:2023 Aerospace & Defense Middle Market Leadership Forum
DESCRIPTION:
LOCATION:The Maybourne Beverly Hills\n225 North Canon Drive\nBeverly H
 ills\\, CA 90210
URL:https://www.acg.org/los-angeles/events/2023-aerospace-defense-midd
 le-market-leadership-forum
DTSTAMP:20260424T213718Z
END:VEVENT
END:VCALENDAR
