BEGIN:VCALENDAR
VERSION:2.0
PRODID:-//ACG//Events//EN
CALSCALE:GREGORIAN
METHOD:PUBLISH
BEGIN:VTIMEZONE
TZID:America/Chicago
BEGIN:STANDARD
DTSTART:19701025T070000
TZOFFSETTO:-0600
TZOFFSETFROM:-0500
RRULE:FREQ=YEARLY;BYMONTH=11;BYDAY=1SU
END:STANDARD
BEGIN:DAYLIGHT
DTSTART:19700426T080000
TZOFFSETTO:-0500
TZOFFSETFROM:-0600
RRULE:FREQ=YEARLY;BYMONTH=3;BYDAY=2SU
END:DAYLIGHT
END:VTIMEZONE
BEGIN:VEVENT
UID:2023-TEN-MONTHLY-MEETING-03232023
DTSTART;TZID=America/Chicago:20230323T163018
DTEND;TZID=America/Chicago:20230323T183018
STATUS:CONFIRMED
SUMMARY:2023 TEN Monthly Meeting 03232023
DESCRIPTION:
LOCATION:AllianceBernstein\n501 Commerce Street\nNashville\\, TN 37203
URL:https://www.acg.org/tennessee/events/2023-ten-monthly-meeting-03232023
DTSTAMP:20260423T160357Z
END:VEVENT
END:VCALENDAR
