BEGIN:VCALENDAR
VERSION:2.0
PRODID:-//ACG//Events//EN
CALSCALE:GREGORIAN
METHOD:PUBLISH
BEGIN:VTIMEZONE
TZID:America/Los_Angeles
BEGIN:STANDARD
DTSTART:19701025T090000
TZOFFSETTO:-0800
TZOFFSETFROM:-0700
RRULE:FREQ=YEARLY;BYMONTH=11;BYDAY=1SU
END:STANDARD
BEGIN:DAYLIGHT
DTSTART:19700426T100000
TZOFFSETTO:-0700
TZOFFSETFROM:-0800
RRULE:FREQ=YEARLY;BYMONTH=3;BYDAY=2SU
END:DAYLIGHT
END:VTIMEZONE
BEGIN:VEVENT
UID:ACG-SF-ANNUAL-PE-IB-2024-POKER-TOURNAMENT
DTSTART;TZID=America/Los_Angeles:20240208T170036
DTEND;TZID=America/Los_Angeles:20240208T173036
STATUS:CONFIRMED
SUMMARY:ACG SF Annual PE/IB 2024 Poker Tournament
DESCRIPTION:
URL:https://www.acg.org/sanfrancisco/events/acg-sf-annual-peib-2024-po
 ker-tournament
DTSTAMP:20260422T180021Z
END:VEVENT
END:VCALENDAR
